BEGIN:VCALENDAR
VERSION:2.0
PRODID:-//Foundation Source - ECPv6.15.20//NONSGML v1.0//EN
CALSCALE:GREGORIAN
METHOD:PUBLISH
X-WR-CALNAME:Foundation Source
X-ORIGINAL-URL:https://foundationsource.com
X-WR-CALDESC:Events for Foundation Source
REFRESH-INTERVAL;VALUE=DURATION:PT1H
X-Robots-Tag:noindex
X-PUBLISHED-TTL:PT1H
BEGIN:VTIMEZONE
TZID:America/New_York
BEGIN:DAYLIGHT
TZOFFSETFROM:-0500
TZOFFSETTO:-0400
TZNAME:EDT
DTSTART:20250309T070000
END:DAYLIGHT
BEGIN:STANDARD
TZOFFSETFROM:-0400
TZOFFSETTO:-0500
TZNAME:EST
DTSTART:20251102T060000
END:STANDARD
BEGIN:DAYLIGHT
TZOFFSETFROM:-0500
TZOFFSETTO:-0400
TZNAME:EDT
DTSTART:20260308T070000
END:DAYLIGHT
BEGIN:STANDARD
TZOFFSETFROM:-0400
TZOFFSETTO:-0500
TZNAME:EST
DTSTART:20261101T060000
END:STANDARD
BEGIN:DAYLIGHT
TZOFFSETFROM:-0500
TZOFFSETTO:-0400
TZNAME:EDT
DTSTART:20270314T070000
END:DAYLIGHT
BEGIN:STANDARD
TZOFFSETFROM:-0400
TZOFFSETTO:-0500
TZNAME:EST
DTSTART:20271107T060000
END:STANDARD
END:VTIMEZONE
BEGIN:VEVENT
DTSTART;TZID=America/New_York:20260202T080000
DTEND;TZID=America/New_York:20260204T170000
DTSTAMP:20260420T083052
CREATED:20260205T122011Z
LAST-MODIFIED:20260205T122011Z
UID:5255-1770019200-1770224400@foundationsource.com
SUMMARY:Endowments & Foundations Roundtable West 2026
DESCRIPTION:Launched in response to demand from Chief Investment Officers (CIOs) of leading endowments\, foundations\, and healthcare systems\, the West Roundtable provides exceptional connectivity and exchange opportunities for this community. \nThis Roundtable offers unique learning and networking experiences\, drawing on a rich diversity of thought leadership from the CIOs of leading endowments\, foundations\, and healthcare systems\, facilitating an unrivaled change of ideas\, opportunities\, and industry best practices. \nAudience demographics: 175+ asset allocators composed of chief investment officers and investment directors from endowments\, foundations\, and healthcare institutions nationally. 100+ senior executives from private equity\, hedge funds\, and traditional asset management firms. \nREGISTER NOW
URL:https://foundationsource.com/event/endowments-foundations-roundtable-west-2026/
CATEGORIES:Conferences
END:VEVENT
END:VCALENDAR